BEGIN:VCALENDAR
VERSION:2.0
BEGIN:VEVENT
URL:https://net.hellaszone.com/index.php/cq-zone/events/viewevent/1-ham-fest-friedrichshafen-june-24-26-2022 
DTSTART:20220624T000000
DTEND:20220626T001500
SUMMARY:HAM Fest Friedrichshafen  JUNE 24-26, 2022
DESCRIPTION:<p style="-webkit-user-select: auto;">A special feature of HAM is the combination of commercial exhibitors, worldwide networked associations and Europe’s largest radio flea market with over 300 participants from 16 countries.<br style="-webkit-user-select: auto;" /></p><p style="-webkit-user-select: auto;"><b style="-webkit-user-select: auto;">Messe Friedrichshafen</b></p><p style="-webkit-user-select: auto;">Neue Messe 1. 88046 Friedrichshafen, Germany </p><p style="-webkit-user-select: auto;">Phone +49 7541 708-5887</p><p style="-webkit-user-select: auto;">Fax +49 7541 708-110</p> <p style="-webkit-user-select: auto;"><b style="-webkit-user-select: auto;">Coordinates:</b> 47.67827 , 9.5073</p><p style="-webkit-user-select: auto;"><br style="-webkit-user-select: auto;" /></p>
LOCATION:Neue Messe 1 88046 Friedrichshafen 
END:VEVENT
END:VCALENDAR